BEGIN:VCALENDAR
VERSION:2.0
PRODID:-//SPAN Parent Advocacy Network - ECPv6.15.17.1//NONSGML v1.0//EN
CALSCALE:GREGORIAN
METHOD:PUBLISH
X-WR-CALNAME:SPAN Parent Advocacy Network
X-ORIGINAL-URL:https://spanadvocacy.org
X-WR-CALDESC:Events for SPAN Parent Advocacy Network
REFRESH-INTERVAL;VALUE=DURATION:PT1H
X-Robots-Tag:noindex
X-PUBLISHED-TTL:PT1H
BEGIN:VTIMEZONE
TZID:UTC
BEGIN:STANDARD
TZOFFSETFROM:+0000
TZOFFSETTO:+0000
TZNAME:UTC
DTSTART:20250101T000000
END:STANDARD
END:VTIMEZONE
BEGIN:VEVENT
DTSTART;TZID=UTC:20260304T120000
DTEND;TZID=UTC:20260304T130000
DTSTAMP:20260424T082705
CREATED:20260224T165202Z
LAST-MODIFIED:20260227T153907Z
UID:10000007-1772625600-1772629200@spanadvocacy.org
SUMMARY:REAL Transition Partners: The Role of Centers for Independent Living
DESCRIPTION:Overview\n\n\nIn this webinar we will discuss Disability-Led Supports Across the Lifespan: The Role of Centers for Independent Living. \n\nLunchtime Learning \nJoin Us! Attendees will discover how Centers for Independent Living (CILs): \n\nPartner with individuals to navigate the systems\, while fostering independence through interdependence\nHelp children\, youth and adults build self-advocacy skills\, strengthen community connections\, and successfully navigate critical life transitions from an early age\nPrioritize disability-led supports that lead to more equitable effective outcomes across the lifespan\n\n\n\n\n			\n			\n				\n				\n				\n				\n				\n				REGISTER
URL:/event/real-transition-partners-the-role-of-centers-for-independent-living/
CATEGORIES:Youth Engagement
ATTACH;FMTTYPE=image/jpeg:/wp-content/uploads/2026/02/friends-having-fun-together-scaled.jpg
END:VEVENT
BEGIN:VEVENT
DTSTART;TZID=UTC:20260304T120000
DTEND;TZID=UTC:20260304T130000
DTSTAMP:20260424T082705
CREATED:20260227T224048Z
LAST-MODIFIED:20260227T224514Z
UID:10000095-1772625600-1772629200@spanadvocacy.org
SUMMARY:REAL Transition Partners: El Rol de los Centros para la Vida Independiente
DESCRIPTION:Overview\n\n\nEn este seminario web hablaremos sobre el papel de los Centros para la Vida Independiente (CILs). \n\nAprendizaje a la hora del almuerzo \n¡Únete a nosotros! Los asistentes descubrirán cómo los Centros para la Vida Independiente (CILs): \n\nColaboran con las personas para orientarlas por los sistemas\, al tiempo que fomentan la independencia a través de la interdependencia\nAyudan a los niños\, jóvenes y adultos a desarrollar habilidades de auto defensoría\, fortalecer las conexiones con la comunidad y afrontar con éxito las transiciones críticas de la vida desde una edad temprana\nDan prioridad a los apoyos dirigidos a personas con discapacidad que conducen a resultados más equitativos y eficaces a lo largo de toda la vida\n\n\n\n\n			\n			\n				\n				\n				\n				\n				\n				REGISTER
URL:/event/real-transition-partners-el-rol-de-los-centros-para-la-vida-independiente/
LOCATION:Virtual\, United States
CATEGORIES:Youth Engagement
ATTACH;FMTTYPE=image/jpeg:/wp-content/uploads/2026/02/friends-having-fun-together-scaled.jpg
END:VEVENT
BEGIN:VEVENT
DTSTART;TZID=UTC:20260304T161500
DTEND;TZID=UTC:20260304T170000
DTSTAMP:20260424T082705
CREATED:20260224T164229Z
LAST-MODIFIED:20260225T175215Z
UID:10000006-1772640900-1772643600@spanadvocacy.org
SUMMARY:The SPAN Youth Chat for Ages 14-26
DESCRIPTION:SPAN Youth Chats is a community of youth supporting youth\, monthly\, hearing from professionals and SPAN staff on empowerment in daily living \n\nOn March 4th\, join Jeremy Hayer and the SPAN Youth Engagement Team for a presentation on Assistive Technology\, exploring practical tools and strategies that support independence\, learning\, and everyday success. \n\n\n			\n			\n				\n				\n				\n				\n				\n				REGISTER
URL:/event/the-span-youth-chat-for-ages-14-26/
LOCATION:Virtual\, United States
CATEGORIES:Youth Engagement
ATTACH;FMTTYPE=image/jpeg:/wp-content/uploads/2026/02/group-selfie-happy-teenagers-smiling-together-scaled.jpg
END:VEVENT
BEGIN:VEVENT
DTSTART;TZID=UTC:20260310T190000
DTEND;TZID=UTC:20260310T200000
DTSTAMP:20260424T082705
CREATED:20260227T230133Z
LAST-MODIFIED:20260227T230146Z
UID:10000096-1773169200-1773172800@spanadvocacy.org
SUMMARY:Foundations of Assistive Technology
DESCRIPTION:Overview\n\n\nThis session will explore how assistive technology expands access and supports meaningful participation for students with disabilities \n\nThis session will explore how assistive technology expands access and supports meaningful participation for students with disabilities in the classroom. \nParticipants will receive: \n•A practical overview of the core frameworks that guide effective Assistive Technology decision‑making \n•An introduction to a range of Assistive Technology and AAC tools that can support communication\, literacy\, and time‑management skills \n•Clear\, actionable strategies they can use to support their children at home and in school. \nThis is a virtual presentation. \nPresenter: Madison Bronstein M.S. CCC-SLP\, ATP – The Assistive Technology Center at TCNJ \nMore Information: Joann Nahmias jnahmias@spanadvocacy.org \n\n\n\n			\n			\n				\n				\n				\n				\n				\n				REGISTER
URL:/event/foundations-of-assistive-technology/
LOCATION:Virtual\, United States
CATEGORIES:Program Trainings
ATTACH;FMTTYPE=image/jpeg:/wp-content/uploads/2026/02/computer-keyboard-scaled.jpg
END:VEVENT
BEGIN:VEVENT
DTSTART;TZID=UTC:20260311T110000
DTEND;TZID=UTC:20260311T120000
DTSTAMP:20260424T082705
CREATED:20260227T145041Z
LAST-MODIFIED:20260227T211646Z
UID:10000001-1773226800-1773230400@spanadvocacy.org
SUMMARY:Basic Rights in Special Education
DESCRIPTION:MULTIPLE DATES AVAILABLE \nThis workshop provides families with an introduction to their rights and responsibilities as parents of children with special needs. \nThis workshop provides families with an introduction to their rights and responsibilities as parents of children with special needs under the Individuals with Disabilities Education Act (IDEA)\, the NJ Code\, and Section 504 of the Vocational Rehabilitation Act. Parents learn to identify their dreams and goals for their children\, and learn laws and advocacy strategies that will help them help their children reach those goals. Parents of classified children and children who are having difficulty in school\, but may not be classified\, benefit from this training. \n			\n			\n				\n				\n				\n				\n				\n				\n				\n				\n				\n				Look at the list of available dates to register \n			\n				REGISTER
URL:/event/basic-rights-2/
LOCATION:Virtual\, United States
CATEGORIES:Program Trainings
ATTACH;FMTTYPE=image/jpeg:/wp-content/uploads/2026/02/mom-spending-time-with-her-black-baby-scaled.jpg
END:VEVENT
BEGIN:VEVENT
DTSTART;TZID=UTC:20260318T183000
DTEND;TZID=UTC:20260318T193000
DTSTAMP:20260424T082705
CREATED:20260224T085607Z
LAST-MODIFIED:20260227T154055Z
UID:10000002-1773858600-1773862200@spanadvocacy.org
SUMMARY:Look to the Future: Transition from School to Adult Life
DESCRIPTION:This workshop will discuss issues relating to transitioning from school to adult life\, identifying outcomes\, and developing goals as part of the IEP process. Parents and students will become knowledgeable regarding resources in the community in order to build linkages and ensure a dignified life as contributing citizens. \n			\n			\n				\n				\n				\n				\n				\n				\n				\n				\n				\n				\n			\n				REGISTER
URL:/event/look-to-the-future-transition-from-school-to-adult-life/
LOCATION:Virtual\, United States
CATEGORIES:Program Trainings,Youth Engagement
ATTACH;FMTTYPE=image/jpeg:/wp-content/uploads/2026/02/roommates-sharing-happy-moments-together.jpg
END:VEVENT
BEGIN:VEVENT
DTSTART;TZID=UTC:20260323T180000
DTEND;TZID=UTC:20260323T190000
DTSTAMP:20260424T082705
CREATED:20260227T231600Z
LAST-MODIFIED:20260310T151922Z
UID:10000097-1774288800-1774292400@spanadvocacy.org
SUMMARY:Early Reading: Skills\, Strategies\, and Support
DESCRIPTION:Overview\n\n\nThis workshop will focus on early reading and the different skills that make a successful reader and ways to practice them at home. \n\nJoin SPAN’s NJTSS-ER Project on Monday\, March 23\, 2026 at 6:00 PM (Eastern Time) for an online family workshop about Early Reading. We’ll cover: \n\nThe “Big 5” Skills: ways to practice them at home.\nScarborough’s Reading Rope: what it means for developing readers.\nExecutive Functioning: how to be ready to learn.\n\nQuestions? Contact Beth Cosentino\, bcosentino@spanadvocacy.org \n\n\n\n			\n			\n				\n				\n				\n				\n				\n				\n				\n				\n				\n				\n			\n				REGISTER
URL:/event/early-reading-skills-strategies-and-support/
LOCATION:Virtual\, United States
CATEGORIES:Early Childhood
ATTACH;FMTTYPE=image/webp:/wp-content/uploads/2026/02/early-reading.webp
END:VEVENT
BEGIN:VEVENT
DTSTART;TZID=UTC:20260324T120000
DTEND;TZID=UTC:20260324T130000
DTSTAMP:20260424T082705
CREATED:20260227T212228Z
LAST-MODIFIED:20260227T212359Z
UID:10000009-1774353600-1774357200@spanadvocacy.org
SUMMARY:Basic Rights in Special Education
DESCRIPTION:MULTIPLE DATES AVAILABLE \nThis workshop provides families with an introduction to their rights and responsibilities as parents of children with special needs. \nThis workshop provides families with an introduction to their rights and responsibilities as parents of children with special needs under the Individuals with Disabilities Education Act (IDEA)\, the NJ Code\, and Section 504 of the Vocational Rehabilitation Act. Parents learn to identify their dreams and goals for their children\, and learn laws and advocacy strategies that will help them help their children reach those goals. Parents of classified children and children who are having difficulty in school\, but may not be classified\, benefit from this training. \n			\n			\n				\n				\n				\n				\n				\n				\n				\n				\n				\n				Look at the list of available dates to register. \n			\n				REGISTER
URL:/event/basic-rights-4/
LOCATION:Virtual\, United States
CATEGORIES:Program Trainings
ATTACH;FMTTYPE=image/jpeg:/wp-content/uploads/2026/02/mom-spending-time-with-her-black-baby-scaled.jpg
END:VEVENT
BEGIN:VEVENT
DTSTART;TZID=UTC:20260325T180000
DTEND;TZID=UTC:20260325T190000
DTSTAMP:20260424T082705
CREATED:20260227T233028Z
LAST-MODIFIED:20260312T171514Z
UID:10000098-1774461600-1774465200@spanadvocacy.org
SUMMARY:Cuidado Infantil Inclusivo de Nueva Jersey Presenta: Círculo de Padres
DESCRIPTION:Información general\n\n\n¡Venga por los recursos y quédese para la discusión! \n\n¡Inscríbase una sola vez! Le mantendremos en la lista para futuros Círculos. \nÚnase a nuestros próximos Círculo de Padres. \nUn espacio para charlas sinceras\, compartir sabiduría y crear comunidad. \nSer padres es un proceso y no tiene que hacerlo solo. Venga y conectese con otros padres y cuidadores para tener conversaciones abiertas y de apoyo sobre temas cotidianos de crianza. Ya sea que este: \n\nSuperando desafíos\nCelebrando victorias\nBuscando recursos\nNecesitando reírse un poco\nO simplemente quiere sentirse reconocido…\n\n25 de marzo de 2026: 6:00 PM – 7:00 PMFomentando conexiones positivas entre hermanos \n\nAbordar algunos de los problemas subyacentes que pueden afectar las relaciones entre hermanos.\nRevisar estrategias positivas para manejar conflictos entre hermanos.\nHablar sobre cómo los niños pueden expresar y manejar sus emociones de manera saludable.\nIdentificar recursos que ayuden a sus hijos a construir relaciones saludables con sus hermanos\n\n\n\n\n			\n			\n				\n				\n				\n				\n				\n				\n				\n				\n				\n				\n			\n				REGISTER
URL:/event/cuidado-infantil-inclusivo-de-nueva-jersey-presenta-circulo-de-padres/
LOCATION:Virtual\, United States
CATEGORIES:Early Childhood
ATTACH;FMTTYPE=image/webp:/wp-content/uploads/2026/02/circulo-de-Padres.webp
END:VEVENT
BEGIN:VEVENT
DTSTART;TZID=UTC:20260326T183000
DTEND;TZID=UTC:20260326T193000
DTSTAMP:20260424T082705
CREATED:20260312T172719Z
LAST-MODIFIED:20260312T172720Z
UID:10000101-1774549800-1774553400@spanadvocacy.org
SUMMARY:New Jersey Inclusive Child Care Presents
DESCRIPTION:Overview\nCome for the resources; stay for the discussion!\n\n\n\nRegister once! We’ll keep you on the list for future Circles.Join our upcoming Parent Circles \nA space for real conversation\, shared wisdom\, and community.Parenting is a journey—you don’t have to do it alone. Come and connect with other parents and caregivers for open\, supportive conversations about everyday parenting topics. Whether you are: \n\nOvercoming challenges\nCelebrating victories\nLooking for resources\nNeeding a little laughter\nOr simply wanting to feel seen…\n\nThese Circles are for YOU!March 26\, 2026: 6:30 PM – 7:30 PMFostering Positive Sibling Connections \n\nAddress some of the underlying issues that may be affecting sibling relationships.\nReview positive strategies for handling sibling conflicts.\nTalk about how children can express and manage their emotions in healthy ways.\nIdentify resources to help your children build healthy relationships with their siblings.\n\n\n\n\n			\n			\n				\n				\n				\n				\n				\n				\n				\n				\n				\n				\n			\n				REGISTER
URL:/event/new-jersey-inclusive-child-care-presents/
LOCATION:Virtual\, United States
CATEGORIES:Early Childhood
ATTACH;FMTTYPE=image/webp:/wp-content/uploads/2026/03/nj-inclusive-child-webinar-header-image.webp
END:VEVENT
BEGIN:VEVENT
DTSTART;TZID=UTC:20260326T190000
DTEND;TZID=UTC:20260326T200000
DTSTAMP:20260424T082705
CREATED:20260227T211048Z
LAST-MODIFIED:20260227T212517Z
UID:10000010-1774551600-1774555200@spanadvocacy.org
SUMMARY:Basic Rights in Special Education
DESCRIPTION:MULTIPLE DATES AVAILABLE \nThis workshop provides families with an introduction to their rights and responsibilities as parents of children with special needs. \nThis workshop provides families with an introduction to their rights and responsibilities as parents of children with special needs under the Individuals with Disabilities Education Act (IDEA)\, the NJ Code\, and Section 504 of the Vocational Rehabilitation Act. Parents learn to identify their dreams and goals for their children\, and learn laws and advocacy strategies that will help them help their children reach those goals. Parents of classified children and children who are having difficulty in school\, but may not be classified\, benefit from this training. \n			\n			\n				\n				\n				\n				\n				\n				\n				\n				\n				\n				Look at the list of available dates to register. \n			\n				REGISTER
URL:/event/basic-rights-3/
LOCATION:Virtual\, United States
CATEGORIES:Program Trainings
ATTACH;FMTTYPE=image/jpeg:/wp-content/uploads/2026/02/mom-spending-time-with-her-black-baby-scaled.jpg
END:VEVENT
BEGIN:VEVENT
DTSTART;TZID=UTC:20260327T123000
DTEND;TZID=UTC:20260327T134500
DTSTAMP:20260424T082705
CREATED:20260324T203416Z
LAST-MODIFIED:20260324T203430Z
UID:10000109-1774614600-1774619100@spanadvocacy.org
SUMMARY:Lunch and Learn: Paid Leave in NJ
DESCRIPTION:How to support parents ability to take time to heal and bond.  Join us for a discussion doulas followed by a workshop on Paid Leave in NJ. \n			\n			\n				\n				\n				\n				\n				\n				REGISTER
URL:/event/lunch-and-learn-paid-leave-in-nj/
LOCATION:Virtual\, United States
CATEGORIES:Early Childhood
ATTACH;FMTTYPE=image/jpeg:/wp-content/uploads/2026/03/Black-Modern-Doula-Services-Logo-Design-Instagram-Post-45-1.jpg
END:VEVENT
END:VCALENDAR